BEGIN:VCALENDAR
VERSION:2.0
PRODID:icalendar-ruby
CALSCALE:GREGORIAN
BEGIN:VEVENT
DTSTAMP:20260422T210112Z
UID:f6a9ecca-58b3-4c33-880d-a77493429e5b
DTSTART;TZID=Pacific/Auckland:20260426T104500
DTEND;TZID=Pacific/Auckland:20260426T111500
DESCRIPTION:Property ID# 607030\nhttps://www.nz.open2view.com/properties/60
 7030
SUMMARY:Openhome for 302/2A Truro Road
END:VEVENT
END:VCALENDAR
