BEGIN:VCALENDAR
VERSION:2.0
PRODID:icalendar-ruby
CALSCALE:GREGORIAN
BEGIN:VEVENT
DTSTAMP:20260422T210129Z
UID:f4dda3d8-bb61-4115-8626-10ded59839bf
DTSTART;TZID=Pacific/Auckland:20260426T140000
DTEND;TZID=Pacific/Auckland:20260426T143000
DESCRIPTION:Property ID# 607030\nhttps://www.nz.open2view.com/properties/60
 7030
SUMMARY:Openhome for 302/2A Truro Road
END:VEVENT
END:VCALENDAR
