BEGIN:VCALENDAR
VERSION:2.0
PRODID:icalendar-ruby
CALSCALE:GREGORIAN
BEGIN:VEVENT
DTSTAMP:20260422T210221Z
UID:24d302fb-5cec-43c0-8e17-d2bb3ece522b
DTSTART;TZID=Pacific/Auckland:20260502T140000
DTEND;TZID=Pacific/Auckland:20260502T143000
DESCRIPTION:Property ID# 607030\nhttps://www.nz.open2view.com/properties/60
 7030
SUMMARY:Openhome for 302/2A Truro Road
END:VEVENT
END:VCALENDAR
