BEGIN:VCALENDAR
VERSION:2.0
PRODID:icalendar-ruby
CALSCALE:GREGORIAN
BEGIN:VEVENT
DTSTAMP:20260422T210221Z
UID:e5410574-6436-470c-a141-95db1bd09138
DTSTART;TZID=Pacific/Auckland:20260503T104500
DTEND;TZID=Pacific/Auckland:20260503T111500
DESCRIPTION:Property ID# 607030\nhttps://www.nz.open2view.com/properties/60
 7030
SUMMARY:Openhome for 302/2A Truro Road
END:VEVENT
END:VCALENDAR
