BEGIN:VCALENDAR
VERSION:2.0
PRODID:icalendar-ruby
CALSCALE:GREGORIAN
BEGIN:VEVENT
DTSTAMP:20260422T210221Z
UID:23dd73a5-3c53-4a97-a5d2-d9cf2819a8a8
DTSTART;TZID=Pacific/Auckland:20260509T104500
DTEND;TZID=Pacific/Auckland:20260509T111500
DESCRIPTION:Property ID# 607030\nhttps://www.nz.open2view.com/properties/60
 7030
SUMMARY:Openhome for 302/2A Truro Road
END:VEVENT
END:VCALENDAR
