BEGIN:VCALENDAR
VERSION:2.0
PRODID:icalendar-ruby
CALSCALE:GREGORIAN
BEGIN:VEVENT
DTSTAMP:20260422T210221Z
UID:b1647f24-6c1d-403f-8a2f-a883056dd8b8
DTSTART;TZID=Pacific/Auckland:20260509T140000
DTEND;TZID=Pacific/Auckland:20260509T143000
DESCRIPTION:Property ID# 607030\nhttps://www.nz.open2view.com/properties/60
 7030
SUMMARY:Openhome for 302/2A Truro Road
END:VEVENT
END:VCALENDAR
