BEGIN:VCALENDAR
VERSION:2.0
PRODID:icalendar-ruby
CALSCALE:GREGORIAN
BEGIN:VEVENT
DTSTAMP:20260422T210222Z
UID:75e7326f-657f-4f0c-bdbf-7ab5524d6b3a
DTSTART;TZID=Pacific/Auckland:20260510T104500
DTEND;TZID=Pacific/Auckland:20260510T111500
DESCRIPTION:Property ID# 607030\nhttps://www.nz.open2view.com/properties/60
 7030
SUMMARY:Openhome for 302/2A Truro Road
END:VEVENT
END:VCALENDAR
