BEGIN:VCALENDAR
VERSION:2.0
PRODID:icalendar-ruby
CALSCALE:GREGORIAN
BEGIN:VEVENT
DTSTAMP:20260422T210221Z
UID:9bd5b6f1-d4d5-48a3-a92e-452ccb8a07d5
DTSTART;TZID=Pacific/Auckland:20260510T140000
DTEND;TZID=Pacific/Auckland:20260510T143000
DESCRIPTION:Property ID# 607030\nhttps://www.nz.open2view.com/properties/60
 7030
SUMMARY:Openhome for 302/2A Truro Road
END:VEVENT
END:VCALENDAR
