BEGIN:VCALENDAR
VERSION:2.0
PRODID:icalendar-ruby
CALSCALE:GREGORIAN
BEGIN:VEVENT
DTSTAMP:20260422T210130Z
UID:144b9b4b-ab92-461d-9423-5e3ad2e5172a
DTSTART;TZID=Pacific/Auckland:20260516T104500
DTEND;TZID=Pacific/Auckland:20260516T111500
DESCRIPTION:Property ID# 607030\nhttps://www.nz.open2view.com/properties/60
 7030
SUMMARY:Openhome for 302/2A Truro Road
END:VEVENT
END:VCALENDAR
