BEGIN:VCALENDAR
VERSION:2.0
PRODID:icalendar-ruby
CALSCALE:GREGORIAN
BEGIN:VEVENT
DTSTAMP:20260422T210130Z
UID:3912e16d-bb2d-498f-90f1-6810b67178d4
DTSTART;TZID=Pacific/Auckland:20260516T140000
DTEND;TZID=Pacific/Auckland:20260516T143000
DESCRIPTION:Property ID# 607030\nhttps://www.nz.open2view.com/properties/60
 7030
SUMMARY:Openhome for 302/2A Truro Road
END:VEVENT
END:VCALENDAR
