BEGIN:VCALENDAR
VERSION:2.0
PRODID:icalendar-ruby
CALSCALE:GREGORIAN
BEGIN:VEVENT
DTSTAMP:20260422T210130Z
UID:bbd7963b-ae23-45ee-a182-cbe353b220ea
DTSTART;TZID=Pacific/Auckland:20260517T104500
DTEND;TZID=Pacific/Auckland:20260517T111500
DESCRIPTION:Property ID# 607030\nhttps://www.nz.open2view.com/properties/60
 7030
SUMMARY:Openhome for 302/2A Truro Road
END:VEVENT
END:VCALENDAR
