BEGIN:VCALENDAR
VERSION:2.0
PRODID:icalendar-ruby
CALSCALE:GREGORIAN
BEGIN:VEVENT
DTSTAMP:20260422T210129Z
UID:5de287d9-229f-4854-b047-6fa76aea5974
DTSTART;TZID=Pacific/Auckland:20260517T140000
DTEND;TZID=Pacific/Auckland:20260517T143000
DESCRIPTION:Property ID# 607030\nhttps://www.nz.open2view.com/properties/60
 7030
SUMMARY:Openhome for 302/2A Truro Road
END:VEVENT
END:VCALENDAR
