BEGIN:VCALENDAR
VERSION:2.0
PRODID:icalendar-ruby
CALSCALE:GREGORIAN
BEGIN:VEVENT
DTSTAMP:20260423T122602Z
UID:cc73af9b-9108-4051-8c38-3fd0d6585a88
DTSTART;TZID=Pacific/Auckland:20260426T120000
DTEND;TZID=Pacific/Auckland:20260426T123000
DESCRIPTION:Property ID# 605463\nhttps://www.nz.open2view.com/properties/60
 5463
SUMMARY:Openhome for 77 Poike Road
END:VEVENT
END:VCALENDAR
