BEGIN:VCALENDAR
VERSION:2.0
PRODID:icalendar-ruby
CALSCALE:GREGORIAN
BEGIN:VEVENT
DTSTAMP:20260422T210129Z
UID:070a9e15-aeeb-4508-9a6a-b0791dd101e1
DTSTART;TZID=Pacific/Auckland:20260426T123000
DTEND;TZID=Pacific/Auckland:20260426T130000
DESCRIPTION:Property ID# 606960\nhttps://www.nz.open2view.com/properties/60
 6960
SUMMARY:Openhome for 111 Queens Drive
END:VEVENT
END:VCALENDAR
