BEGIN:VCALENDAR
VERSION:2.0
PRODID:icalendar-ruby
CALSCALE:GREGORIAN
BEGIN:VEVENT
DTSTAMP:20260422T210130Z
UID:56ab3ed2-c561-4962-8fe0-95a3304e3f58
DTSTART;TZID=Pacific/Auckland:20260426T111500
DTEND;TZID=Pacific/Auckland:20260426T120000
DESCRIPTION:Property ID# 606797\nhttps://www.nz.open2view.com/properties/60
 6797
SUMMARY:Openhome for 46 Veitches Road
END:VEVENT
END:VCALENDAR
