BEGIN:VCALENDAR
VERSION:2.0
PRODID:icalendar-ruby
CALSCALE:GREGORIAN
BEGIN:VEVENT
DTSTAMP:20260422T210112Z
UID:434a6b25-5af2-4b90-96e5-1042fd0030f2
DTSTART;TZID=Pacific/Auckland:20260503T111500
DTEND;TZID=Pacific/Auckland:20260503T120000
DESCRIPTION:Property ID# 606797\nhttps://www.nz.open2view.com/properties/60
 6797
SUMMARY:Openhome for 46 Veitches Road
END:VEVENT
END:VCALENDAR
