BEGIN:VCALENDAR
VERSION:2.0
PRODID:icalendar-ruby
CALSCALE:GREGORIAN
BEGIN:VEVENT
DTSTAMP:20260422T210222Z
UID:d6a86dd1-ce22-4e39-b166-26ce2ab6109c
DTSTART;TZID=Pacific/Auckland:20260510T111500
DTEND;TZID=Pacific/Auckland:20260510T120000
DESCRIPTION:Property ID# 606797\nhttps://www.nz.open2view.com/properties/60
 6797
SUMMARY:Openhome for 46 Veitches Road
END:VEVENT
END:VCALENDAR
