BEGIN:VCALENDAR
VERSION:2.0
PRODID:icalendar-ruby
CALSCALE:GREGORIAN
BEGIN:VEVENT
DTSTAMP:20260423T182851Z
UID:5ec29b47-f5f0-4858-81a7-daa241239322
DTSTART;TZID=Pacific/Auckland:20260426T133000
DTEND;TZID=Pacific/Auckland:20260426T140000
DESCRIPTION:Property ID# 607140\nhttps://www.nz.open2view.com/properties/60
 7140
SUMMARY:Openhome for 655 Grenada Street
END:VEVENT
END:VCALENDAR
