BEGIN:VCALENDAR
VERSION:2.0
PRODID:icalendar-ruby
CALSCALE:GREGORIAN
BEGIN:VEVENT
DTSTAMP:20260423T182805Z
UID:8fbc8199-89db-4c99-a578-c94900768b66
DTSTART;TZID=Pacific/Auckland:20260426T140000
DTEND;TZID=Pacific/Auckland:20260426T143000
DESCRIPTION:Property ID# 607139\nhttps://www.nz.open2view.com/properties/60
 7139
SUMMARY:Openhome for 26A Short Street
END:VEVENT
END:VCALENDAR
