BEGIN:VCALENDAR
VERSION:2.0
PRODID:icalendar-ruby
CALSCALE:GREGORIAN
BEGIN:VEVENT
DTSTAMP:20260423T134356Z
UID:270f8797-7366-4eb1-a9f1-eed05b72e2a0
DTSTART;TZID=Pacific/Auckland:20260426T110000
DTEND;TZID=Pacific/Auckland:20260426T113000
DESCRIPTION:Property ID# 606550\nhttps://www.nz.open2view.com/properties/60
 6550
SUMMARY:Openhome for 97B Gloucester Road
END:VEVENT
END:VCALENDAR
