BEGIN:VCALENDAR
VERSION:2.0
PRODID:icalendar-ruby
CALSCALE:GREGORIAN
BEGIN:VEVENT
DTSTAMP:20260423T182927Z
UID:2d31be11-623c-46ab-864d-1d42d6281b2b
DTSTART;TZID=Pacific/Auckland:20260426T111500
DTEND;TZID=Pacific/Auckland:20260426T120000
DESCRIPTION:Property ID# 607050\nhttps://www.nz.open2view.com/properties/60
 7050
SUMMARY:Openhome for 10 Evansbel Place
END:VEVENT
END:VCALENDAR
