BEGIN:VCALENDAR
VERSION:2.0
PRODID:icalendar-ruby
CALSCALE:GREGORIAN
BEGIN:VEVENT
DTSTAMP:20260425T111451Z
UID:64f3a05b-57c8-415d-908d-0395695731d9
DTSTART;TZID=Pacific/Auckland:20260426T103000
DTEND;TZID=Pacific/Auckland:20260426T110000
DESCRIPTION:Property ID# 606274\nhttps://www.nz.open2view.com/properties/60
 6274
SUMMARY:Openhome for 14A Greerton Road
END:VEVENT
END:VCALENDAR
