BEGIN:VCALENDAR
VERSION:2.0
PRODID:icalendar-ruby
CALSCALE:GREGORIAN
BEGIN:VEVENT
DTSTAMP:20260425T111451Z
UID:b0f1512a-e194-42b2-8459-7cc461d7ae0c
DTSTART;TZID=Pacific/Auckland:20260503T103000
DTEND;TZID=Pacific/Auckland:20260503T110000
DESCRIPTION:Property ID# 606274\nhttps://www.nz.open2view.com/properties/60
 6274
SUMMARY:Openhome for 14A Greerton Road
END:VEVENT
END:VCALENDAR
