BEGIN:VCALENDAR
VERSION:2.0
PRODID:icalendar-ruby
CALSCALE:GREGORIAN
BEGIN:VEVENT
DTSTAMP:20260423T183411Z
UID:297b841a-96a6-4708-bbbc-4eac3ccbb867
DTSTART;TZID=Pacific/Auckland:20260426T120000
DTEND;TZID=Pacific/Auckland:20260426T123000
DESCRIPTION:Property ID# 607014\nhttps://www.nz.open2view.com/properties/60
 7014
SUMMARY:Openhome for 12 Faulkner Street
END:VEVENT
END:VCALENDAR
