BEGIN:VCALENDAR
VERSION:2.0
PRODID:icalendar-ruby
CALSCALE:GREGORIAN
BEGIN:VEVENT
DTSTAMP:20260423T183346Z
UID:871a5772-864b-46e3-8af6-46307b4dc5cd
DTSTART;TZID=Pacific/Auckland:20260503T120000
DTEND;TZID=Pacific/Auckland:20260503T123000
DESCRIPTION:Property ID# 607014\nhttps://www.nz.open2view.com/properties/60
 7014
SUMMARY:Openhome for 12 Faulkner Street
END:VEVENT
END:VCALENDAR
