BEGIN:VCALENDAR
VERSION:2.0
PRODID:icalendar-ruby
CALSCALE:GREGORIAN
BEGIN:VEVENT
DTSTAMP:20260425T194951Z
UID:323215f8-5a27-431d-9e91-6bbfbdd6159a
DTSTART;TZID=Pacific/Auckland:20260426T120000
DTEND;TZID=Pacific/Auckland:20260426T123000
DESCRIPTION:Property ID# 606925\nhttps://www.nz.open2view.com/properties/60
 6925
SUMMARY:Openhome for 7 Turquoise Place
END:VEVENT
END:VCALENDAR
