BEGIN:VCALENDAR
VERSION:2.0
PRODID:icalendar-ruby
CALSCALE:GREGORIAN
BEGIN:VEVENT
DTSTAMP:20260424T094645Z
UID:11a7658a-b0ee-4040-a978-e7405d028290
DTSTART;TZID=Pacific/Auckland:20260426T124500
DTEND;TZID=Pacific/Auckland:20260426T131500
DESCRIPTION:Property ID# 606551\nhttps://www.nz.open2view.com/properties/60
 6551
SUMMARY:Openhome for 4 Union Drive
END:VEVENT
END:VCALENDAR
