BEGIN:VCALENDAR
VERSION:2.0
PRODID:icalendar-ruby
CALSCALE:GREGORIAN
BEGIN:VEVENT
DTSTAMP:20260423T182927Z
UID:d4f0ce31-c55b-4586-95b0-cbb61fddd4cd
DTSTART;TZID=Pacific/Auckland:20260426T130000
DTEND;TZID=Pacific/Auckland:20260426T140000
DESCRIPTION:Property ID# 607138\nhttps://www.nz.open2view.com/properties/60
 7138
SUMMARY:Openhome for 187 Matapihi Road
END:VEVENT
END:VCALENDAR
