BEGIN:VCALENDAR
VERSION:2.0
PRODID:icalendar-ruby
CALSCALE:GREGORIAN
BEGIN:VEVENT
DTSTAMP:20260423T182734Z
UID:a3634c93-816b-43a4-90b9-ea25f6649f9f
DTSTART;TZID=Pacific/Auckland:20260502T130000
DTEND;TZID=Pacific/Auckland:20260502T140000
DESCRIPTION:Property ID# 607138\nhttps://www.nz.open2view.com/properties/60
 7138
SUMMARY:Openhome for 187 Matapihi Road
END:VEVENT
END:VCALENDAR
