BEGIN:VCALENDAR
VERSION:2.0
PRODID:icalendar-ruby
CALSCALE:GREGORIAN
BEGIN:VEVENT
DTSTAMP:20260423T182933Z
UID:b8eb8b10-4308-4911-a17b-f5a385be32d8
DTSTART;TZID=Pacific/Auckland:20260510T130000
DTEND;TZID=Pacific/Auckland:20260510T140000
DESCRIPTION:Property ID# 607138\nhttps://www.nz.open2view.com/properties/60
 7138
SUMMARY:Openhome for 187 Matapihi Road
END:VEVENT
END:VCALENDAR
