BEGIN:VCALENDAR
VERSION:2.0
PRODID:icalendar-ruby
CALSCALE:GREGORIAN
BEGIN:VEVENT
DTSTAMP:20260423T182759Z
UID:af08e26e-6d72-4ed2-8dcd-8cc886639003
DTSTART;TZID=Pacific/Auckland:20260426T113000
DTEND;TZID=Pacific/Auckland:20260426T120000
DESCRIPTION:Property ID# 607124\nhttps://www.nz.open2view.com/properties/60
 7124
SUMMARY:Openhome for 22 Turner Street
END:VEVENT
END:VCALENDAR
