BEGIN:VCALENDAR
VERSION:2.0
PRODID:icalendar-ruby
CALSCALE:GREGORIAN
BEGIN:VEVENT
DTSTAMP:20260423T182921Z
UID:09fe4d3d-bd63-4891-b3c9-528be99f5f5d
DTSTART;TZID=Pacific/Auckland:20260426T140000
DTEND;TZID=Pacific/Auckland:20260426T143000
DESCRIPTION:Property ID# 606730\nhttps://www.nz.open2view.com/properties/60
 6730
SUMMARY:Openhome for 24 Sunninghurst Drive
END:VEVENT
END:VCALENDAR
