BEGIN:VCALENDAR
VERSION:2.0
PRODID:icalendar-ruby
CALSCALE:GREGORIAN
BEGIN:VEVENT
DTSTAMP:20260424T230053Z
UID:1161b21c-e47b-4baf-bc87-b315f5e948b1
DTSTART;TZID=Pacific/Auckland:20260426T110000
DTEND;TZID=Pacific/Auckland:20260426T113000
DESCRIPTION:Property ID# 607296\nhttps://www.nz.open2view.com/properties/60
 7296
SUMMARY:Openhome for 30 Russley Drive
END:VEVENT
END:VCALENDAR
