BEGIN:VCALENDAR
VERSION:2.0
PRODID:icalendar-ruby
CALSCALE:GREGORIAN
BEGIN:VEVENT
DTSTAMP:20260425T194951Z
UID:5b2617ae-e202-425e-a0a3-8d8859f3c9e4
DTSTART;TZID=Pacific/Auckland:20260426T110000
DTEND;TZID=Pacific/Auckland:20260426T120000
DESCRIPTION:Property ID# 606976\nhttps://www.nz.open2view.com/properties/60
 6976
SUMMARY:Openhome for 52 Lagoon Place
END:VEVENT
END:VCALENDAR
