BEGIN:VCALENDAR
VERSION:2.0
PRODID:icalendar-ruby
CALSCALE:GREGORIAN
BEGIN:VEVENT
DTSTAMP:20260425T194950Z
UID:721c3fff-8567-4b11-89eb-ee8d2b37be9c
DTSTART;TZID=Pacific/Auckland:20260429T170000
DTEND;TZID=Pacific/Auckland:20260429T173000
DESCRIPTION:Property ID# 606976\nhttps://www.nz.open2view.com/properties/60
 6976
SUMMARY:Openhome for 52 Lagoon Place
END:VEVENT
END:VCALENDAR
