BEGIN:VCALENDAR
VERSION:2.0
PRODID:icalendar-ruby
CALSCALE:GREGORIAN
BEGIN:VEVENT
DTSTAMP:20260425T194950Z
UID:8cf150f5-7480-432a-ae1c-2c9b7ffcb0bb
DTSTART;TZID=Pacific/Auckland:20260503T110000
DTEND;TZID=Pacific/Auckland:20260503T120000
DESCRIPTION:Property ID# 606976\nhttps://www.nz.open2view.com/properties/60
 6976
SUMMARY:Openhome for 52 Lagoon Place
END:VEVENT
END:VCALENDAR
