BEGIN:VCALENDAR
VERSION:2.0
PRODID:icalendar-ruby
CALSCALE:GREGORIAN
BEGIN:VEVENT
DTSTAMP:20260425T194056Z
UID:12007bbc-b389-4f3e-92f1-910858312685
DTSTART;TZID=Pacific/Auckland:20260427T130000
DTEND;TZID=Pacific/Auckland:20260427T133000
DESCRIPTION:Property ID# 607009\nhttps://www.nz.open2view.com/properties/60
 7009
SUMMARY:Openhome for 1648 Te Rahu Road
END:VEVENT
END:VCALENDAR
