BEGIN:VCALENDAR
VERSION:2.0
PRODID:icalendar-ruby
CALSCALE:GREGORIAN
BEGIN:VEVENT
DTSTAMP:20260425T194056Z
UID:9023d9f5-dd99-42a2-bc19-b630ae731783
DTSTART;TZID=Pacific/Auckland:20260427T130000
DTEND;TZID=Pacific/Auckland:20260427T133000
DESCRIPTION:Property ID# 606897\nhttps://www.nz.open2view.com/properties/60
 6897
SUMMARY:Openhome for 55 Elizabeth Avenue
END:VEVENT
END:VCALENDAR
