BEGIN:VCALENDAR
VERSION:2.0
PRODID:icalendar-ruby
CALSCALE:GREGORIAN
BEGIN:VEVENT
DTSTAMP:20260424T230038Z
UID:83c7315a-ae21-4652-8e0e-702564673bf7
DTSTART;TZID=Pacific/Auckland:20260426T113000
DTEND;TZID=Pacific/Auckland:20260426T121500
DESCRIPTION:Property ID# 607297\nhttps://www.nz.open2view.com/properties/60
 7297
SUMMARY:Openhome for 99 Beach Road
END:VEVENT
END:VCALENDAR
